BEGIN:VCALENDAR
VERSION:2.0
PRODID:-//ChamberMaster//Event Calendar 2.0//EN
METHOD:PUBLISH
X-PUBLISHED-TTL:P3D
REFRESH-INTERVAL:P3D
CALSCALE:GREGORIAN
BEGIN:VEVENT
DTSTART:20200221T000000Z
DTEND:20200221T030000Z
X-MICROSOFT-CDO-ALLDAYEVENT:FALSE
SUMMARY:Girls Night Out
DESCRIPTION:Bring your girlfriends for a fun night out for a great cause!  \n\nJoin us at 1st Place Sports Bar (1736 W. Algonquin Rd. H.E.) on Thursday\, February 20\, 2020.  $35 includes 2 hours of open bar (7-9pm)\, dinner buffet and goodie bags for the first 75 guests along with a raffle include a variety of great prizes including hotel overnights\, dining and more!\n\n\n\nRegister at heparks.org (program # 8000000R) and join us for a great evening out!
X-ALT-DESC;FMTTYPE=text/html:<span style="color:#ff3399\;"><span style="font-family:comic sans ms\;"><span style="font-size:18px\;">Bring your girlfriends for a fun night out for a great cause!&nbsp\;&nbsp\;<br />\nJoin us at </span></span></span><span style="color:#40E0D0\;"><span style="font-family:comic sans ms\;"><span style="font-size:18px\;">1st Place Sports Bar</span></span></span><span style="color:#ff3399\;"><span style="font-family:comic sans ms\;"><span style="font-size:18px\;"> (1736 W. Algonquin Rd. H.E.) on </span></span></span><span style="color:#40E0D0\;"><span style="font-family:comic sans ms\;"><span style="font-size:18px\;">Thursday\, February 20\, 2020</span></span></span><span style="color:#ff3399\;"><span style="font-family:comic sans ms\;"><span style="font-size:18px\;">.&nbsp\; $35 includes 2 hours of open bar (7-9pm)\, dinner buffet and goodie bags for the first 75 guests along with a raffle include a variety of great prizes including hotel overnights\, dining and more!<br />\n<br />\nRegister at <a href="http://www.heparks.org">heparks.org</a> (program # 8000000R) and join us for a great evening out!</span></span></span>
LOCATION:1st Place Sports Bar 1736 W. Algonquin Road Hoffman Estates\, IL 60192
UID:e.495.6756
SEQUENCE:3
DTSTAMP:20260422T135610Z
URL:https://members.hechamber.com/events/details/girls-night-out-02-20-2020-6756
END:VEVENT

END:VCALENDAR
