BEGIN:VCALENDAR
VERSION:2.0
PRODID:-//ChamberMaster//Event Calendar 2.0//EN
METHOD:PUBLISH
X-PUBLISHED-TTL:P3D
REFRESH-INTERVAL:P3D
CALSCALE:GREGORIAN
BEGIN:VEVENT
DTSTART:20180827T150000Z
DTEND:20180828T020000Z
X-MICROSOFT-CDO-ALLDAYEVENT:FALSE
SUMMARY:GiGi's Playhouse Golf Outing and Banquet
DESCRIPTION:GiGi's Playhouse presents the 5th Annual National Golf Outing and Banquet\, hosted by Wynstone Golf Club in Barrington.\n\nYour support allows us to continue to provide FREE therapeutic\, educational and career programs that empowers children and adults with Down syndrome and their families.\n\n Please join executive partners\, board members\, GiGi University graduates\, and fellow golf enthusiasts for the 2018 GiGi's Playhouse National Golf Outing. Indulge yourself in this luxury Jack Nicklaus signature design course. The recent multi-million dollar renovations makes this a one of a kind golf experience. Factor in the Helicopter ball drop\, atomic air gun shoot (reach a par 4 in one shot!) hand-rolled cigars\, signature drinks\, bourbon tasting\, brick oven pizza and gelato on the 9th hole and you are in for one heck of a good time! Impress your buddies and help the kids at the same time!
X-ALT-DESC;FMTTYPE=text/html:<h3 style="text-align:center"><br />\n<span style="color:#4B0082\;"><span style="font-size:18px\;"><strong>GiGi&rsquo\;s Playhouse presents the 5th Annual National Golf Outing and Banquet\,&nbsp\;hosted by Wynstone Golf Club in Barrington.</strong></span></span></h3>\n\n<p><span style="font-family:tahoma\;"><span style="font-size:14px\;">Your support allows us to continue to provide FREE therapeutic\, educational and career programs that empowers children and adults with Down syndrome and their families.</span></span></p>\n\n<p><span style="font-family:tahoma\;"><span style="font-size:14px\;">&nbsp\;Please join executive partners\, board members\, GiGi University graduates\, and fellow golf enthusiasts for the 2018 GiGi&rsquo\;s Playhouse National Golf Outing. Indulge yourself in this luxury Jack Nicklaus signature design course. The recent multi-million dollar renovations makes this a one of a kind golf experience. Factor in the Helicopter ball drop\, atomic air gun shoot (reach a par 4 in one shot!) hand-rolled cigars\, signature drinks\, bourbon tasting\, brick oven pizza and gelato on the 9th hole and you are in for one heck of a good time! Impress your buddies and help the kids at the same time!</span></span></p>\n
LOCATION:Wynstone Golf Club 1 S Wynstone Dr\, North Barrington\, IL 60010 http://www.wynstone.org/
UID:e.495.4779
SEQUENCE:3
DTSTAMP:20260425T024331Z
URL:https://members.hechamber.com/events/details/gigi-s-playhouse-golf-outing-and-banquet-4779
END:VEVENT

END:VCALENDAR
