BEGIN:VCALENDAR
VERSION:2.0
PRODID:-//ChamberMaster//Event Calendar 2.0//EN
METHOD:PUBLISH
X-PUBLISHED-TTL:P3D
REFRESH-INTERVAL:P3D
CALSCALE:GREGORIAN
BEGIN:VEVENT
DTSTART:20190711T134500Z
DTEND:20190711T143000Z
X-MICROSOFT-CDO-ALLDAYEVENT:FALSE
SUMMARY:Fishing Derby Committee Wrap-Up
DESCRIPTION:Fishing Derby Committee \n\nWrap-Up Meeting\n\nChaired by Paul Swanson
X-ALT-DESC;FMTTYPE=text/html:<div><strong><span style="color:#0000CD\;"><span style="font-size:14px\;">Fishing Derby Committee&nbsp\;</span></span></strong></div>\n\n<div><strong><span style="color:#0000CD\;"><span style="font-size:14px\;">Wrap-Up&nbsp\;Meeting<br />\nChaired by Paul Swanson</span></span></strong><br />\n&nbsp\;</div>\n
LOCATION:Hoffman Estates Chamber Office 2200 W. Higgins Road\, Suite 201 Hoffman Estates
UID:e.495.5599
SEQUENCE:3
DTSTAMP:20260424T105349Z
URL:https://members.hechamber.com/events/details/fishing-derby-committee-wrap-up-5599
END:VEVENT

END:VCALENDAR
