BEGIN:VCALENDAR
VERSION:2.0
PRODID:-//ChamberMaster//Event Calendar 2.0//EN
METHOD:PUBLISH
X-PUBLISHED-TTL:P3D
REFRESH-INTERVAL:P3D
CALSCALE:GREGORIAN
BEGIN:VEVENT
DTSTART;VALUE=DATE:20210515
DTEND;VALUE=DATE:20210516
TRANSP:TRANSPARENT
X-MICROSOFT-CDO-ALLDAYEVENT:TRUE
SUMMARY:Fellowship Housing (un)Gala
DESCRIPTION:(un)Gala\n\nIn Person | April 16-May 15\, 2021\n\n\n	\n	dinner date options each W/F/Sa @ 6:30pm\n	\n	\n	brunch date options each Sa/Su @ 10:30am\n	\n\n\nVirtual | May 15th at 7pm\n\nIn light of current restrictions\, the gala team is excited to unveil some different\, yet still fun and elegant plans for the 2021 Gala. We're calling it the (un)Gala and it's coming right to your home!\n\nOne thing does remain the same  We will come together once again\, empowering single moms in our community to break the cycle of poverty and build a new legacy.
X-ALT-DESC;FMTTYPE=text/html:<h2><span style="font-size:22px\;"><strong>(un)Gala</strong></span></h2>\n\n<h3 style="color:rgba(100\, 34\, 103\, 0.69)\; font-style:italic"><span style="font-size:18px\;"><strong>In Person | April 16-May 15\, 2021</strong></span></h3>\n\n<ul>\n	<li>\n	<p><span style="font-size:18px\;"><strong>dinner date options each W/F/Sa @ 6:30pm</strong></span></p>\n	</li>\n	<li>\n	<p><span style="font-size:18px\;"><strong>brunch date options each Sa/Su @ 10:30am</strong></span></p>\n	</li>\n</ul>\n\n<h3 style="color:rgba(100\, 34\, 103\, 0.69)\; font-style:italic"><span style="font-size:18px\;"><strong>Virtual | May 15th at 7pm</strong></span></h3>\n\n<p><span style="font-size:18px\;"><strong>In light of current restrictions\, the gala team is excited to unveil some different\, yet still fun and elegant plans for the 2021 Gala. We&#39\;re calling it the (un)Gala and it&#39\;s coming right to your home!</strong></span></p>\n\n<p><span style="font-size:18px\;"><strong>One thing does remain the same&hellip\; We will come together once again\, empowering single moms in our community to break the cycle of poverty and build a new legacy.</strong></span></p>\n
LOCATION:In Person (your home or back yard) | April 16-May 15\, 2021 dinner date options each W/F/Sa @ 6:30pm brunch date options each Sa/Su @ 10:30am Virtual | May 15th at 7pm
UID:e.495.7136
SEQUENCE:3
DTSTAMP:20260421T131429Z
URL:https://members.hechamber.com/events/details/fellowship-housing-un-gala-7136
END:VEVENT

END:VCALENDAR
