BEGIN:VCALENDAR
VERSION:2.0
PRODID:-//ChamberMaster//Event Calendar 2.0//EN
METHOD:PUBLISH
X-PUBLISHED-TTL:P3D
REFRESH-INTERVAL:P3D
CALSCALE:GREGORIAN
BEGIN:VEVENT
DTSTART:20190926T150000Z
DTEND:20190927T000000Z
X-MICROSOFT-CDO-ALLDAYEVENT:FALSE
SUMMARY:Fellowship Housing Golf Outing
DESCRIPTION:Join us for the 26th Annual Fellowship Housing Golf Outing! Enjoy a beautiful day filled with golf including contests and fantastic prizes\, silent auction\, food\, drinks and live music. Poppin' Pallets will be joining us once again with fun for all the non-golfers (incl. dinner & program). Most importantly\, you'll help empower local homeless and at-risk single moms to build a new legacy!
X-ALT-DESC;FMTTYPE=text/html:<strong><span style="color:#008080\;"><span style="font-size:16px\;">Join us for the 26th Annual Fellowship Housing Golf Outing! Enjoy a beautiful day filled with golf including contests and fantastic prizes\, silent auction\, food\, drinks and live music. Poppin&#39\; Pallets will be joining us once again with fun for all the non-golfers (incl. dinner &amp\; program). Most importantly\, you&#39\;ll help empower local homeless and at-risk single moms to build a new legacy!</span></span></strong>
LOCATION:Makray Memorial Golf Club Barrington
UID:e.495.5379
SEQUENCE:3
DTSTAMP:20260422T212834Z
URL:https://members.hechamber.com/events/details/fellowship-housing-golf-outing-5379
END:VEVENT

END:VCALENDAR
