BEGIN:VCALENDAR
VERSION:2.0
PRODID:-//ChamberMaster//Event Calendar 2.0//EN
METHOD:PUBLISH
X-PUBLISHED-TTL:P3D
REFRESH-INTERVAL:P3D
CALSCALE:GREGORIAN
BEGIN:VEVENT
DTSTART:20200924T150000Z
DTEND:20200924T220000Z
X-MICROSOFT-CDO-ALLDAYEVENT:FALSE
SUMMARY:Fellowship Housing Golf Outing
DESCRIPTION:We hope you can join us for the 27th Annual Fellowship Housing Golf Outing! Enjoy a beautiful day filled with golf including contests and fantastic prizes\, lunch\, drinks and a brief vision casting for you and your guests to learn more about Fellowship Housing.\n\nMost importantly\, you'll help empower local at-risk single moms to build a new legacy!\n\nIn 2020's 'everything is different because of Covid' theme\, we have reduced ticket prices to $350 per golfer (normally $400). Tickets this year will INCLUDE the games passport (normally $80 per golfer). Tee times will be staggered every 10 minutes from 10am-2pm and you may indicate your preferred starting hour during registration.
X-ALT-DESC;FMTTYPE=text/html:<p>We hope you can join us for the 27th Annual Fellowship Housing Golf Outing! Enjoy a beautiful day filled with golf including contests and fantastic prizes\, lunch\, drinks and a&nbsp\;brief vision casting for you and your guests to learn more about Fellowship Housing.</p>\n\n<p>Most importantly\, you&#39\;ll help empower local at-risk single moms to build a new legacy!</p>\n\n<p>In 2020&#39\;s &#39\;everything is different because of Covid&#39\; theme\, we have reduced ticket prices to $350 per golfer (normally $400). Tickets this year will INCLUDE the games passport (normally $80 per golfer).&nbsp\;Tee times will be staggered every 10 minutes from 10am-2pm and you may indicate your preferred starting hour during registration.</p>\n
LOCATION:Makray Memorial Golf Club 1010 S. Northwest Highway Barrington\, IL 60010
UID:e.495.7048
SEQUENCE:3
DTSTAMP:20260422T022724Z
URL:https://members.hechamber.com/events/details/fellowship-housing-golf-outing-09-24-2020-7048
END:VEVENT

END:VCALENDAR
