BEGIN:VCALENDAR
VERSION:2.0
PRODID:-//ChamberMaster//Event Calendar 2.0//EN
METHOD:PUBLISH
X-PUBLISHED-TTL:P3D
REFRESH-INTERVAL:P3D
CALSCALE:GREGORIAN
BEGIN:VEVENT
DTSTART:20190224T000000Z
DTEND:20190224T040000Z
X-MICROSOFT-CDO-ALLDAYEVENT:FALSE
SUMMARY:Fellowship Housing Black & White Gala
DESCRIPTION:At the 2019 Black & White Gala\, we will come together once again for an elegant evening out\, empowering single moms in our community to break the cycle of poverty and build a new legacy. Since 1991\, you have been changing the lives of single moms and their kids who are homeless or one small crisis away from homelessness. This year\, we will see you at the Avante Banquet center\, just north-west of Barrington in Fox River Grove. Please accept our cordial invitation to fine dining\, cocktail hour\, silent and live auctions\, wine pull\, entertainment and program not to be missed. With the ample space offered by this beautiful new venue\, we encourage you to invite your friends\, family\, and colleagues along too! Together\, we can change the future for the generations to come. Registration is open from January 1st through February 15th\, 2019. We look forward to seeing you there!
X-ALT-DESC;FMTTYPE=text/html:At the 2019 Black &amp\; White Gala\, we will come together once again for an elegant evening out\, empowering single moms in our community to break the cycle of poverty and build a new legacy. Since 1991\, you have been changing the lives of single moms and their kids who are homeless or one small crisis away from homelessness. This year\, we will see you at the Avante Banquet center\, just north-west of Barrington in Fox River Grove. Please accept our cordial invitation to fine dining\, cocktail hour\, silent and live auctions\, wine pull\, entertainment and program not to be missed. With the ample space offered by this beautiful new venue\, we encourage you to invite your friends\, family\, and colleagues along too! Together\, we can change the future for the generations to come. Registration is open from January 1st through February 15th\, 2019. We look forward to seeing you there!
LOCATION:Avante Banquets 1050 Northwest Highway Fox River Grove\, IL 60021
UID:e.495.4996
SEQUENCE:3
DTSTAMP:20260424T191826Z
URL:https://members.hechamber.com/events/details/fellowship-housing-black-white-gala-4996
END:VEVENT

END:VCALENDAR
