BEGIN:VCALENDAR
VERSION:2.0
PRODID:-//ChamberMaster//Event Calendar 2.0//EN
METHOD:PUBLISH
X-PUBLISHED-TTL:P3D
REFRESH-INTERVAL:P3D
CALSCALE:GREGORIAN
BEGIN:VEVENT
DTSTART:20181027T180000Z
DTEND:20181027T210000Z
X-MICROSOFT-CDO-ALLDAYEVENT:FALSE
SUMMARY:Family Fall FUN Fest!
DESCRIPTION:Family Fall FUN Fest Celebration\n\nSaturday\, October 27\, 2018\n\n1:00pm   4:00pm \n \n\n Paint a Pumpkin!  Face Painting!  FUN Prizes and Raffles! \n\nFree $10 FUNcard if dressed in a costume! \n\nTrick-OR-Treat Scavenger Hunt!\n\n \n\nE-mail us to find out about more FUN events and specials! Or Call us!\n\nMain Event Hoffman Estates 2575 Pratum Ave\, Hoffman Estates\, IL 60192 \n\nHofsales@mainevent.com  847-645-1111
X-ALT-DESC;FMTTYPE=text/html:<h1 style="text-align:center"><strong>Family Fall <em>FUN</em> Fest Celebration<br />\n<span style="color:#FF8C00\;">Saturday\, October 27\, 2018</span><br />\n1:00pm &ndash\; 4:00pm&nbsp\;</strong></h1>\n&nbsp\;\n\n<div style="text-align:center"><span style="font-size:14px"><span style="font-family:comic sans ms"><span style="font-size:16px\;">&nbsp\;</span><strong><span style="font-size:16px\;"><span style="color:#FF8C00\;">Paint a Pumpkin!&nbsp\; Face Painting!&nbsp\; FUN Prizes and Raffles!&nbsp\;</span><br />\nFree $10 FUNcard if dressed in a costume!&nbsp\;<br />\n<span style="color:#FF8C00\;">Trick-OR-Treat Scavenger Hunt!</span></span><br />\n&nbsp\;</strong><br />\nE-mail us to find out about more FUN events and specials! Or Call us!<br />\nMain Event Hoffman Estates 2575 Pratum Ave\, Hoffman Estates\, IL 60192&nbsp\;<br />\nHofsales@mainevent.com&nbsp\; 847-645-1111 </span></span></div>\n
LOCATION:Main Event Hoffman Estates 2575 Pratum Avenue Hoffman Estates\, IL 60192
UID:e.495.4809
SEQUENCE:3
DTSTAMP:20260424T233406Z
URL:https://members.hechamber.com/events/details/family-fall-fun-fest-4809
END:VEVENT

END:VCALENDAR
