BEGIN:VCALENDAR
VERSION:2.0
PRODID:-//ChamberMaster//Event Calendar 2.0//EN
METHOD:PUBLISH
X-PUBLISHED-TTL:P3D
REFRESH-INTERVAL:P3D
CALSCALE:GREGORIAN
BEGIN:VEVENT
DTSTART;VALUE=DATE:20251105
DTEND;VALUE=DATE:20251122
TRANSP:TRANSPARENT
X-MICROSOFT-CDO-ALLDAYEVENT:TRUE
SUMMARY:Encore Memory Care at South Barrington - Food Drive for Schaumburg Township Food Pantry
DESCRIPTION:Hello all!\n\n\n\nHelping Our Neighbors in Need! \n\n\n\nEncore Memory Care at South Barrington is proud to support our local food pantry this season by collecting non-perishable food items for families in our community. Every can\, box\, and bag makes a difference! If you?d like to contribute\, stop by and drop off your donations?we?ll make sure they get to those who need them most. \n\n\n\nWe are collecting nonperishable items from now through Friday\, November 21st.\n\n\n\nWhat a great way to give back for Thanksgiving and help those in need!\n\n\n\nhttps://lnkd.in/gTTadkq4\n\n\n\n#CommunitySupport hashtag\n\n#FoodDrive
X-ALT-DESC;FMTTYPE=text/html:<span style="color:rgba(0\, 0\, 0\, 0.9)\; font-family:-apple-system\,system-ui\,blinkmacsystemfont\,segoe ui\,roboto\,helvetica neue\,fira sans\,ubuntu\,oxygen\,oxygen sans\,cantarell\,droid sans\,apple color emoji\,segoe ui emoji\,segoe ui emoji\,segoe ui symbol\,lucida grande\,helvetica\,arial\,sans-serif\; font-size:14px">Hello all!</span><br>\n<br>\n<span style="color:rgba(0\, 0\, 0\, 0.9)\; font-family:-apple-system\,system-ui\,blinkmacsystemfont\,segoe ui\,roboto\,helvetica neue\,fira sans\,ubuntu\,oxygen\,oxygen sans\,cantarell\,droid sans\,apple color emoji\,segoe ui emoji\,segoe ui emoji\,segoe ui symbol\,lucida grande\,helvetica\,arial\,sans-serif\; font-size:14px">Helping Our Neighbors in Need!&nbsp\;</span><br>\n<br>\n<span style="color:rgba(0\, 0\, 0\, 0.9)\; font-family:-apple-system\,system-ui\,blinkmacsystemfont\,segoe ui\,roboto\,helvetica neue\,fira sans\,ubuntu\,oxygen\,oxygen sans\,cantarell\,droid sans\,apple color emoji\,segoe ui emoji\,segoe ui emoji\,segoe ui symbol\,lucida grande\,helvetica\,arial\,sans-serif\; font-size:14px">Encore Memory Care at South Barrington is proud to support our local food pantry this season by collecting non-perishable food items for families in our community. Every can\, box\, and bag makes a difference! If you?d like to contribute\, stop by and drop off your donations?we?ll make sure they get to those who need them most.&nbsp\;</span><br>\n<br>\n<span style="color:rgba(0\, 0\, 0\, 0.9)\; font-family:-apple-system\,system-ui\,blinkmacsystemfont\,segoe ui\,roboto\,helvetica neue\,fira sans\,ubuntu\,oxygen\,oxygen sans\,cantarell\,droid sans\,apple color emoji\,segoe ui emoji\,segoe ui emoji\,segoe ui symbol\,lucida grande\,helvetica\,arial\,sans-serif\; font-size:14px">We are collecting nonperishable items from now through Friday\, November 21st.</span><br>\n<br>\n<span style="color:rgba(0\, 0\, 0\, 0.9)\; font-family:-apple-system\,system-ui\,blinkmacsystemfont\,segoe ui\,roboto\,helvetica neue\,fira sans\,ubuntu\,oxygen\,oxygen sans\,cantarell\,droid sans\,apple color emoji\,segoe ui emoji\,segoe ui emoji\,segoe ui symbol\,lucida grande\,helvetica\,arial\,sans-serif\; font-size:14px">What a great way to give back for Thanksgiving and help those in need!</span><br>\n<br>\n<a class="yRgCVsjrzAHkdCEjqvAcmnsmCUhbwIZbY " href="https://lnkd.in/gTTadkq4" style="box-sizing: inherit\; margin: 0px\; padding: 0px\; font-size: 14px\; vertical-align: baseline\; background-image: none\; background-position: 0% 0%\; background-size: auto\; background-repeat: repeat\; background-attachment: scroll\; background-origin: padding-box\; background-clip: border-box\; text-decoration-line: initial\; text-decoration-color: rgb(10\, 102\, 194)\; font-weight: 600\; border-color: rgb(10\, 102\, 194)\; border-style: none\; border-width: 0px\; border-image: none 100% / 1 / 0 stretch\; color: rgb(10\, 102\, 194)\; font-family: -apple-system\, system-ui\, BlinkMacSystemFont\, &quot\;Segoe UI&quot\;\, Roboto\, &quot\;Helvetica Neue&quot\;\, &quot\;Fira Sans&quot\;\, Ubuntu\, Oxygen\, &quot\;Oxygen Sans&quot\;\, Cantarell\, &quot\;Droid Sans&quot\;\, &quot\;Apple Color Emoji&quot\;\, &quot\;Segoe UI Emoji&quot\;\, &quot\;Segoe UI Emoji&quot\;\, &quot\;Segoe UI Symbol&quot\;\, &quot\;Lucida Grande&quot\;\, Helvetica\, Arial\, sans-serif\; touch-action: manipulation\; position: relative\; word-break: normal\; overflow-wrap: normal\; line-height: inherit !important\;" tabindex="0" target="_self">https://lnkd.in/gTTadkq4</a><br>\n<br>\n<a class="yRgCVsjrzAHkdCEjqvAcmnsmCUhbwIZbY " href="https://www.linkedin.com/search/results/all/?keywords=%23communitysupport&amp\;origin=HASH_TAG_FROM_FEED" style="box-sizing: inherit\; margin: 0px\; padding: 0px\; font-size: 14px\; vertical-align: baseline\; background-image: none\; background-position: 0% 0%\; background-size: auto\; background-repeat: repeat\; background-attachment: scroll\; background-origin: padding-box\; background-clip: border-box\; text-decoration-line: initial\; text-decoration-color: rgb(10\, 102\, 194)\; font-weight: 600\; border-color: rgb(10\, 102\, 194)\; border-style: none\; border-width: 0px\; border-image: none 100% / 1 / 0 stretch\; color: rgb(10\, 102\, 194)\; font-family: -apple-system\, system-ui\, BlinkMacSystemFont\, &quot\;Segoe UI&quot\;\, Roboto\, &quot\;Helvetica Neue&quot\;\, &quot\;Fira Sans&quot\;\, Ubuntu\, Oxygen\, &quot\;Oxygen Sans&quot\;\, Cantarell\, &quot\;Droid Sans&quot\;\, &quot\;Apple Color Emoji&quot\;\, &quot\;Segoe UI Emoji&quot\;\, &quot\;Segoe UI Emoji&quot\;\, &quot\;Segoe UI Symbol&quot\;\, &quot\;Lucida Grande&quot\;\, Helvetica\, Arial\, sans-serif\; touch-action: manipulation\; position: relative\; word-break: normal\; overflow-wrap: normal\; line-height: inherit !important\;" tabindex="0">#CommunitySupport</a><span style="color:rgba(0\, 0\, 0\, 0.9)\; font-family:-apple-system\,system-ui\,blinkmacsystemfont\,segoe ui\,roboto\,helvetica neue\,fira sans\,ubuntu\,oxygen\,oxygen sans\,cantarell\,droid sans\,apple color emoji\,segoe ui emoji\,segoe ui emoji\,segoe ui symbol\,lucida grande\,helvetica\,arial\,sans-serif\; font-size:14px"> </span><a class="yRgCVsjrzAHkdCEjqvAcmnsmCUhbwIZbY " href="https://www.linkedin.com/search/results/all/?keywords=%23fooddrive&amp\;origin=HASH_TAG_FROM_FEED" style="box-sizing: inherit\; margin: 0px\; padding: 0px\; font-size: 14px\; vertical-align: baseline\; background-image: none\; background-position: 0% 0%\; background-size: auto\; background-repeat: repeat\; background-attachment: scroll\; background-origin: padding-box\; background-clip: border-box\; text-decoration-line: initial\; text-decoration-color: rgb(10\, 102\, 194)\; font-weight: 600\; border-color: rgb(10\, 102\, 194)\; border-style: none\; border-width: 0px\; border-image: none 100% / 1 / 0 stretch\; color: rgb(10\, 102\, 194)\; font-family: -apple-system\, system-ui\, BlinkMacSystemFont\, &quot\;Segoe UI&quot\;\, Roboto\, &quot\;Helvetica Neue&quot\;\, &quot\;Fira Sans&quot\;\, Ubuntu\, Oxygen\, &quot\;Oxygen Sans&quot\;\, Cantarell\, &quot\;Droid Sans&quot\;\, &quot\;Apple Color Emoji&quot\;\, &quot\;Segoe UI Emoji&quot\;\, &quot\;Segoe UI Emoji&quot\;\, &quot\;Segoe UI Symbol&quot\;\, &quot\;Lucida Grande&quot\;\, Helvetica\, Arial\, sans-serif\; touch-action: manipulation\; position: relative\; word-break: normal\; overflow-wrap: normal\; line-height: inherit !important\;" tabindex="0">hashtag<br>\n#FoodDrive</a>
LOCATION:
UID:e.495.9474
SEQUENCE:3
DTSTAMP:20260424T110848Z
URL:https://members.hechamber.com/events/details/encore-memory-care-at-south-barrington-food-drive-for-schaumburg-township-food-pantry-9474
END:VEVENT

END:VCALENDAR
