BEGIN:VCALENDAR
VERSION:2.0
PRODID:-//ChamberMaster//Event Calendar 2.0//EN
METHOD:PUBLISH
X-PUBLISHED-TTL:P3D
REFRESH-INTERVAL:P3D
CALSCALE:GREGORIAN
BEGIN:VEVENT
DTSTART:20190222T000000Z
DTEND:20190222T020000Z
X-MICROSOFT-CDO-ALLDAYEVENT:FALSE
SUMMARY:Educator's Open House
DESCRIPTION:Calling ALL Educators! \n\nYou are invited to an evening of Free FUN! Free Food and Activities! Come to Eat\, Bowl\, and Play ON US for the FULL Experience\, and what we have to offer for your school!\n\nWe will be showcasing our School & Scouting Events that we offer for all ages K-12.  We also have an amazing FUNdrasing program!\n\nPlease see the attached document about our upcoming event:\n\nDate: Thursday\, February 21\n\nTime: 6:00pm   8:00pm\n\nLocation: Main Event Entertainment Hoffman Estates\n\n2575 Pratum Ave\, Hoffman Estates\, IL 60192\n\n \n\nIf you would like to attend\, please RSVP to Kris Hicks with # of guests and we will add you to the list!\n\nPhone   847-645-1111\n\nE-mail   Kris.hicks@mainevent.com
X-ALT-DESC;FMTTYPE=text/html:<p><span style="font-size:16px\;"><strong>Calling ALL Educators!&nbsp\;</strong></span></p>\n\n<p><span style="font-size:16px\;">You are invited to an evening of Free FUN! Free Food and Activities! Come to Eat\, Bowl\, and Play ON US for the FULL Experience\, and what we have to offer for your school!</span></p>\n\n<p><span style="font-size:16px\;">We will be showcasing our School &amp\; Scouting Events that we offer for all ages K-12.&nbsp\; We also have an amazing FUNdrasing program!</span></p>\n\n<p><span style="font-size:16px\;">Please see the attached document about our upcoming event:</span></p>\n\n<p><span style="font-size:16px\;">Date: Thursday\, February 21</span></p>\n\n<p><span style="font-size:16px\;">Time: 6:00pm &ndash\; 8:00pm</span></p>\n\n<p><span style="font-size:16px\;">Location: Main Event Entertainment Hoffman Estates</span></p>\n\n<p><span style="font-size:16px\;">2575 Pratum Ave\, Hoffman Estates\, IL 60192</span><br />\n&nbsp\;</p>\n\n<p><span style="font-size:16px\;">If you would like to attend\, please RSVP to Kris Hicks with # of guests and we will add you to the list!</span></p>\n\n<p><span style="font-size:16px\;">Phone &ndash\; 847-645-1111</span></p>\n\n<p><span style="font-size:16px\;">E-mail &ndash\; <a href="mailto:Kris.hicks@mainevent.com">Kris.hicks@mainevent.com</a></span></p>\n
LOCATION:Main Event Entertainment Hoffman Estates 2575 Pratum Avenue Hoffman Estates
UID:e.495.5188
SEQUENCE:3
DTSTAMP:20260424T175446Z
URL:https://members.hechamber.com/events/details/educator-s-open-house-5188
END:VEVENT

END:VCALENDAR
