BEGIN:VCALENDAR
VERSION:2.0
PRODID:-//ChamberMaster//Event Calendar 2.0//EN
METHOD:PUBLISH
X-PUBLISHED-TTL:P3D
REFRESH-INTERVAL:P3D
CALSCALE:GREGORIAN
BEGIN:VEVENT
DTSTART:20180725T133000Z
DTEND:20180725T143000Z
X-MICROSOFT-CDO-ALLDAYEVENT:FALSE
SUMMARY:Educational Committee Meeting
DESCRIPTION:Education Committee Meeting\n\nChaired by Martha Keyes
X-ALT-DESC;FMTTYPE=text/html:<strong><span style="font-size:14px\;">Education Committee Meeting<br />\nChaired by Martha Keyes</span></strong>
LOCATION:NIU Conference Center 5555 Trillium Blvd. Hoffman Estates
UID:e.495.4625
SEQUENCE:3
DTSTAMP:20260425T040103Z
URL:https://members.hechamber.com/events/details/educational-committee-meeting-4625
END:VEVENT

END:VCALENDAR
