BEGIN:VCALENDAR
VERSION:2.0
PRODID:-//ChamberMaster//Event Calendar 2.0//EN
METHOD:PUBLISH
X-PUBLISHED-TTL:P3D
REFRESH-INTERVAL:P3D
CALSCALE:GREGORIAN
BEGIN:VEVENT
DTSTART:20210724T140000Z
DTEND:20210724T180000Z
X-MICROSOFT-CDO-ALLDAYEVENT:FALSE
SUMMARY:Drive Thru School Supply Drive at NOW Arena
DESCRIPTION:Hosted by the Schaumburg-Hoffman Lions Club and the Windy City Bulls. Please consider donating school supply items for D54 and U46. We will be accepting donations outside in the parking lot of Now Arena in Hoffman Estates\, IL.\n\n \n\nAll you have to do is drive up and drop off the supplies. Please check the discussion tab for details on items needed.
X-ALT-DESC;FMTTYPE=text/html:<div><strong><span style="color:#4B0082\;"><span style="font-size:16px\;">Hosted by the Schaumburg-Hoffman Lions Club and the Windy City Bulls. Please consider donating school supply items for D54 and U46. We will be accepting donations outside in the parking lot of Now Arena in Hoffman Estates\, IL.</span></span></strong><br />\n&nbsp\;</div>\n\n<div><strong><span style="color:#4B0082\;"><span style="font-size:16px\;">All you have to do is drive up and drop off the supplies. Please check the discussion tab for details on items needed.&nbsp\;</span></span></strong></div>\n
LOCATION:NOW Arena Parking Lot 5333 Prairie Stone Pkwy\, Hoffman Estates 60192
UID:e.495.7213
SEQUENCE:3
DTSTAMP:20260421T115135Z
URL:https://members.hechamber.com/events/details/drive-thru-school-supply-drive-at-now-arena-7213
END:VEVENT

END:VCALENDAR
