BEGIN:VCALENDAR
VERSION:2.0
PRODID:-//ChamberMaster//Event Calendar 2.0//EN
METHOD:PUBLISH
X-PUBLISHED-TTL:P3D
REFRESH-INTERVAL:P3D
CALSCALE:GREGORIAN
BEGIN:VEVENT
DTSTART;VALUE=DATE:20200925
DTEND;VALUE=DATE:20200928
TRANSP:TRANSPARENT
X-MICROSOFT-CDO-ALLDAYEVENT:TRUE
SUMMARY:District 54 Run to Read
DESCRIPTION:The year 2020 has proven to be quite an unpredictable year for all of us. For the past 16 years\, the District 54 Run to Read has been a race dedicated to promoting health and wellness for all ages. With that in mind\, our 17th annual Run to Read is going virtual. Current state guidelines don't allow for us to gather such a large crowd in one space.\n\nHowever\, by going virtual\, you can still participate in your favorite local race\, by running or walking as a family. In addition\, all money raised this year will be donated to the D54 Foundation Crisis Fund\, to provide food and other necessary supplies to District 54 families who are struggling financially during this pandemic.\n\nAs in years past\, you can choose from a variety of distances   and because we are virtual we have added some additional events. Our youngest runners can sprint down their sidewalk in a 100-yard dash. Older children can select a 400-yard dash\, half-mile run or 1-mile run. Finally\, children and adults can sign up for a full 5K (3.1 miles) or 10K (6.2 miles) run. Pick the distance that works for you and map out a route near your home. If walking is more your style\, pick a distance and walk instead. \n\nNot a runner? With a $10 donation\, you can sponsor a D54 student whose family cannot afford to participate in this race. For $20\, you can sponsor 2 children. For $100 you can sponsor 10. You get the idea.\n\nAnother benefit of social distance running is that we are extending the Run to Read from a one-day event to an entire weekend. Run or walk anytime from Sept. 25-27 and submit your time when you're done. And don't forget to take a photo and tag us on social\, or use the hashtag #54Run2Read.
X-ALT-DESC;FMTTYPE=text/html:<p><span style="font-size:16px\;">The year 2020 has proven to be quite an unpredictable year for all of us. For the past 16 years\, the District 54 Run to Read has been a race dedicated to promoting health and wellness for all ages. With that in mind\, our 17th annual Run to Read is going virtual. Current state guidelines don&rsquo\;t allow for us to gather such a large crowd in one space.</span></p>\n\n<p><span style="font-size:16px\;">However\, by going virtual\, you can still participate in your favorite local race\, by running or walking as a family.&nbsp\;<span style="color:rgb(255\, 102\, 0)"><strong>In addition\,&nbsp\;all money raised this year will be donated to the&nbsp\;<a href="https://d54foundation.org/crisis-fund/" style="appearance: none\; -webkit-tap-highlight-color: transparent\; text-size-adjust: none\; margin: 0px\; padding: 0px\; color: inherit\;">D54 Foundation Crisis Fund</a>\, to provide food and other necessary supplies to District 54 families who are struggling financially during this pandemic.</strong></span></span></p>\n\n<p><span style="font-size:16px\;">As in years past\, you can choose from a variety of distances &ndash\; and because we are virtual we have added some additional events. Our youngest runners can sprint down their sidewalk in a 100-yard dash. Older children can select a 400-yard dash\, half-mile run or 1-mile run. Finally\, children and adults can sign up for a full 5K (3.1 miles) or 10K (6.2 miles) run. Pick the distance that works for you and map out a route near your home. If walking is more your style\, pick a distance and walk instead.&nbsp\;</span></p>\n\n<p><span style="font-size:16px\;">Not a runner? With a $10 donation\, you can sponsor a D54 student whose family cannot afford to participate in this race. For $20\, you can sponsor 2 children. For $100 you can sponsor 10. You get the idea.</span></p>\n\n<p><span style="font-size:16px\;">Another benefit of social distance running is that we are extending the Run to Read from a one-day event to an entire weekend. Run or walk anytime from Sept. 25-27 and submit your time when you&rsquo\;re done. And don&rsquo\;t forget to take a photo and tag us on social\, or use the hashtag #54Run2Read.&nbsp\;</span></p>\n
LOCATION:Your own neighborhood or favorite running spot.
UID:e.495.7066
SEQUENCE:3
DTSTAMP:20260422T022411Z
URL:https://members.hechamber.com/events/details/district-54-run-to-read-7066
END:VEVENT

END:VCALENDAR
