BEGIN:VCALENDAR
VERSION:2.0
PRODID:-//ChamberMaster//Event Calendar 2.0//EN
METHOD:PUBLISH
X-PUBLISHED-TTL:P3D
REFRESH-INTERVAL:P3D
CALSCALE:GREGORIAN
BEGIN:VEVENT
DTSTART;VALUE=DATE:20190610
DTEND;VALUE=DATE:20190611
TRANSP:TRANSPARENT
X-MICROSOFT-CDO-ALLDAYEVENT:TRUE
SUMMARY:District 54 Education Foundation 2019 Golf Outing
DESCRIPTION:Join the District 54 Education Foundation for the Foundation's 22nd annual golf outing on Monday\, June 10 and make a difference in the lives of District 54 students!\n\n\n\nThe golf outing at the Schaumburg Golf Club is the Foundation's largest fundraising event. All proceeds support District 54 breakfast programs\, STEM programs\, and grants for students from financially struggling households.\n\n\n\nPlease consider supporting District 54 children by becoming an event sponsor or golfing. The Foundation is also looking for raffle items\, as well as gift cards from local businesses to award as prizes. \n\n\n\nVisit www.d54foundation.org/golf-outing to sponsor\, register or for more information.
X-ALT-DESC;FMTTYPE=text/html:<span style="font-size:18px\;"><span style="font-family:times new roman\,serif"><span style="color:black">Join the District 54 Education Foundation for the Foundation&rsquo\;s 22nd annual golf outing on Monday\, June 10 and make a difference in the lives of District 54 students!</span></span><br />\n<br />\n<span style="font-family:times new roman\,serif"><span style="color:black">The golf outing at the Schaumburg Golf Club is the Foundation&rsquo\;s largest fundraising event. All proceeds support District 54 breakfast programs\, STEM programs\, and grants for students from financially struggling households.</span></span></span><br />\n<br />\n<span style="font-size:12pt"><span style="font-family:times new roman\,serif"><span style="color:black">Please consider supporting District 54 children by becoming an event sponsor or golfing. The Foundation is also looking for raffle items\, as well as gift cards from local businesses to award as prizes. </span></span></span><br />\n<br />\n<span style="font-size:12pt"><span style="font-family:times new roman\,serif"><span style="color:black">Visit </span></span></span><a href="http://www.d54foundation.org/golf-outing"><span style="font-size:12pt"><span style="font-family:times new roman\,serif"><span style="color:rgb(0\, 0\, 255)">www.d54foundation.org/golf-outing</span></span></span></a><span style="font-size:12pt"><span style="font-family:times new roman\,serif"><span style="color:black"> to sponsor\, register or for more information. </span></span></span>
LOCATION:Schaumburg Golf Club 401 Roselle Road\, Schaumburg\, IL 60194
UID:e.495.5358
SEQUENCE:3
DTSTAMP:20260424T121908Z
URL:https://members.hechamber.com/events/details/district-54-education-foundation-2019-golf-outing-5358
END:VEVENT

END:VCALENDAR
