BEGIN:VCALENDAR
VERSION:2.0
PRODID:-//ChamberMaster//Event Calendar 2.0//EN
METHOD:PUBLISH
X-PUBLISHED-TTL:P3D
REFRESH-INTERVAL:P3D
CALSCALE:GREGORIAN
BEGIN:VEVENT
DTSTART:20191023T233000Z
DTEND:20191024T010000Z
X-MICROSOFT-CDO-ALLDAYEVENT:FALSE
SUMMARY:Demystifying Health Insurance
DESCRIPTION:Wednesday\, October 23 2019\, 6:30pm - 8:00pm\n\nHoffman Estates Branch\, Meeting Room\n\n\n\nLearn about the pros and cons of various health insurance products. Find out what's available regarding individual\, group and Medicare insurance. Karen McCormack of McCormack Consulting Group\, Inc. will explain each product and help you determine which is the best for you. Questions encouraged.\n\nPlease register online (https://www.schaumburglibrary.org/\, click EVENTS) or call our Information Services Desk at 847-923-3347.
X-ALT-DESC;FMTTYPE=text/html:<span style="font-size:16px\;"><strong><span style="font-family:arial\,sans-serif">Wednesday\, October 23 2019\, 6:30pm - 8:00pm</span><br />\n<span style="font-family:arial\,sans-serif">Hoffman Estates Branch\, Meeting Room</span></strong><br />\n<br />\n<span style="font-family:arial\,sans-serif">Learn about the pros and cons of various health&nbsp\;insurance products. Find out what&rsquo\;s available&nbsp\;regarding individual\, group and Medicare&nbsp\;insurance. Karen McCormack of McCormack&nbsp\;Consulting Group\, Inc. will explain each product&nbsp\;and help you determine which is the best for you.&nbsp\;Questions encouraged.<br />\nPlease register online (<a href="https://www.schaumburglibrary.org/">https://www.schaumburglibrary.org/</a>\, click EVENTS) or call our Information Services Desk at 847-923-3347.</span></span><br />\n<br />\n&nbsp\;
LOCATION:Hoffman Estates Branch 1550 Hassell Road Hoffman Estates\, IL 60169 (847) 885-3511
UID:e.495.5670
SEQUENCE:3
DTSTAMP:20260422T213042Z
URL:https://members.hechamber.com/events/details/demystifying-health-insurance-5670
END:VEVENT

END:VCALENDAR
