BEGIN:VCALENDAR
VERSION:2.0
PRODID:-//ChamberMaster//Event Calendar 2.0//EN
METHOD:PUBLISH
X-PUBLISHED-TTL:P3D
REFRESH-INTERVAL:P3D
CALSCALE:GREGORIAN
BEGIN:VEVENT
DTSTART:20191113T203000Z
DTEND:20191113T213000Z
X-MICROSOFT-CDO-ALLDAYEVENT:FALSE
SUMMARY:Dementia and Alzheimer's Presentation
DESCRIPTION:Charter Senior Living of Poplar Creek and Encompass Health invite you to an informative session on Dementia and Alzheimer's.\n\n\n\nThese terms are often used synonymously\, but they are not the same thing.  Come learn a few things about Dementia and Alzheimer's with us.\n\n\n\nPresentation by Trace Hanson.
X-ALT-DESC;FMTTYPE=text/html:<div style="text-align: center\;"><strong><span style="font-size:16px"><span style="color:#8B4513">Charter Senior Living of Poplar Creek and Encompass Health invite you to an informative session on Dementia and Alzheimer&#39\;s.</span></span></strong></div>\n\n<div style="text-align: center\;"><br />\n<span style="font-size:14px">These terms are often used synonymously\, but they are not the same thing.&nbsp\; Come learn a few things about Dementia and Alzheimer&#39\;s with us.<br />\n<br />\n<em>Presentation by Trace Hanson.</em></span></div>\n
LOCATION:Charter Senior Living of Poplar Creek 2150 W. Golf Rd. Hoffman Estates\, IL 60169 847.755.0735
UID:e.495.5698
SEQUENCE:3
DTSTAMP:20260422T183521Z
URL:https://members.hechamber.com/events/details/dementia-and-alzheimer-s-presentation-5698
END:VEVENT

END:VCALENDAR
