BEGIN:VCALENDAR
VERSION:2.0
PRODID:-//ChamberMaster//Event Calendar 2.0//EN
METHOD:PUBLISH
X-PUBLISHED-TTL:P3D
REFRESH-INTERVAL:P3D
CALSCALE:GREGORIAN
BEGIN:VEVENT
DTSTART:20181201T190000Z
DTEND:20181201T203000Z
X-MICROSOFT-CDO-ALLDAYEVENT:FALSE
SUMMARY:Coffee Talk - Selling and Buying a Home in Today's Market
DESCRIPTION:Grab a free cup of coffee and ask all the real estate and mortgage questions you would like.
X-ALT-DESC;FMTTYPE=text/html:<span style="font-size:16px\;"><strong><span style="color:#8B4513\;"><span style="font-family:comic sans ms\;">Grab a free cup of coffee and ask all the real estate and mortgage questions you would like.</span></span></strong></span>
LOCATION:Wally's Coffee House 55 W. Schaumburg Rd. Schaumburg
UID:e.495.4836
SEQUENCE:3
DTSTAMP:20260424T203546Z
URL:https://members.hechamber.com/events/details/coffee-talk-selling-and-buying-a-home-in-today-s-market-12-01-2018-4836
END:VEVENT

END:VCALENDAR
