BEGIN:VCALENDAR
VERSION:2.0
PRODID:-//ChamberMaster//Event Calendar 2.0//EN
METHOD:PUBLISH
X-PUBLISHED-TTL:P3D
REFRESH-INTERVAL:P3D
CALSCALE:GREGORIAN
BEGIN:VEVENT
DTSTART:20190807T230000Z
DTEND:20190808T003000Z
X-MICROSOFT-CDO-ALLDAYEVENT:FALSE
SUMMARY:Coffee Talk - Selling And Buying A Home In Today's Market
DESCRIPTION:Buying or selling your home could raise a lot of questions \n\n \n\n	What is the process to start looking for a new home? \n	How do I find out how much of a home I can afford/purchase?\n	What is the process for selling my current home?\n	Should I purchase investment property?\n\nWe will be at Starbucks at The Streets of Woodfield located at 601 N Martingale Road in Schaumburg for a Q & A Session on Home Buying and Home Selling
X-ALT-DESC;FMTTYPE=text/html:<strong><span style="color:#538135"><span style="font-size:18.0pt">Buying or selling your home could raise a lot of questions&hellip\;</span></span></strong><br />\n&nbsp\;\n<ul>\n	<li><strong><span style="color:#538135"><span style="font-size:16.0pt">What is the process to start looking for a new home? </span></span></strong></li>\n	<li><strong><span style="color:#538135"><span style="font-size:16.0pt">How do I find out how much of a home I can afford/purchase?</span></span></strong></li>\n	<li><strong><span style="color:#538135"><span style="font-size:16.0pt">What is the process for selling my current home?</span></span></strong></li>\n	<li><strong><span style="color:#538135"><span style="font-size:16.0pt">Should I purchase investment property?</span></span></strong></li>\n</ul>\n<strong><span style="color:#385623"><span style="font-size:18.0pt">We will be at Starbucks at The Streets of Woodfield located at </span></span></strong><strong><span style="color:#385623"><span style="font-size:18.0pt">601 N Martingale Road in Schaumburg for a Q &amp\; A Session </span></span></strong><strong><span style="color:#385623"><span style="font-size:18.0pt">on Home Buying and Home Selling&nbsp\; </span></span></strong><br />\n<br />\n&nbsp\;
LOCATION:Starbucks at The Street of Woodfield 601 N. Martingale Road Schaumburg
UID:e.495.5180
SEQUENCE:3
DTSTAMP:20260422T230439Z
URL:https://members.hechamber.com/events/details/coffee-talk-selling-and-buying-a-home-in-today-s-market-08-07-2019-5180
END:VEVENT

END:VCALENDAR
