BEGIN:VCALENDAR
VERSION:2.0
PRODID:-//ChamberMaster//Event Calendar 2.0//EN
METHOD:PUBLISH
X-PUBLISHED-TTL:P3D
REFRESH-INTERVAL:P3D
CALSCALE:GREGORIAN
BEGIN:VEVENT
DTSTART:20181020T150000Z
DTEND:20181020T170000Z
X-MICROSOFT-CDO-ALLDAYEVENT:FALSE
SUMMARY:Citizens Utility Board CUB Presentation
DESCRIPTION:The presentation will focus on energy sustainability discussing:\n\n	  Things every homeowner can do to save time and money\n	  Rebates and incentives designed to help you be more energy efficient\n	How the latest Illinois energy policies are making solar (roof top and community based) more accessible\n	What residents of Hoffman Estates would like policymakers to prioritize
X-ALT-DESC;FMTTYPE=text/html:The presentation will focus on energy sustainability discussing:\n<ul>\n	<li>&nbsp\; Things every homeowner can do to save time and money</li>\n	<li>&nbsp\; Rebates and incentives designed to help you be more energy efficient</li>\n	<li>How the latest Illinois energy policies are making solar (roof top and community based) more accessible</li>\n	<li>What residents of Hoffman Estates would like policymakers to prioritize</li>\n</ul>\n
LOCATION:The Village of Hoffman Estates 1900 Hassell Road Hoffman Estates
UID:e.495.4806
SEQUENCE:3
DTSTAMP:20260424T232716Z
URL:https://members.hechamber.com/events/details/citizens-utility-board-cub-presentation-4806
END:VEVENT

END:VCALENDAR
