BEGIN:VCALENDAR
VERSION:2.0
PRODID:-//ChamberMaster//Event Calendar 2.0//EN
METHOD:PUBLISH
X-PUBLISHED-TTL:P3D
REFRESH-INTERVAL:P3D
CALSCALE:GREGORIAN
BEGIN:VEVENT
DTSTART:20191110T000000Z
DTEND:20191110T055500Z
X-MICROSOFT-CDO-ALLDAYEVENT:FALSE
SUMMARY:Charity Poker Tournament
DESCRIPTION:Charity Texas Hold Em Poker Tournament to benefit the HE Parks Foundation (a 501(c)3) on Saturday\, November 9 at Bridges of Poplar Creek Country Club in Hoffman Estates.  Doors open at 6pm\, poker games from 7pm to Midnight.  Play for the kids to help raise money for scholarships.  $50 buy-in includes tournament entry\, taco bar dinner and one drink ticket.  Cash bar throughout the evening as well as additional single-table tournaments.\n\nRegister online at heparks.org/poker
X-ALT-DESC;FMTTYPE=text/html:<br />\n<span style="color:#800000\;"><span style="font-size:18px\;"><strong>Charity Texas Hold Em Poker Tournament</strong> to benefit the HE Parks Foundation (a 501(c)3) on <strong>Saturday\, November 9</strong> at Bridges of Poplar Creek Country Club in Hoffman Estates.&nbsp\; Doors open at 6pm\, poker games from 7pm to Midnight.&nbsp\; Play for the kids to help raise money for scholarships.&nbsp\; $50 buy-in includes tournament entry\, taco bar dinner and one drink ticket.&nbsp\; Cash bar throughout the evening as well as additional single-table tournaments.<br />\nRegister online at <a href="http://heparks.org/poker">heparks.org/poker</a></span></span>
LOCATION:Bridges of Poplar Creek Country Club 1400 Poplar Creek Drive Hoffman Estates\, IL 60169
UID:e.495.5686
SEQUENCE:3
DTSTAMP:20260422T195817Z
URL:https://members.hechamber.com/events/details/charity-poker-tournament-5686
END:VEVENT

END:VCALENDAR
