BEGIN:VCALENDAR
VERSION:2.0
PRODID:-//ChamberMaster//Event Calendar 2.0//EN
METHOD:PUBLISH
X-PUBLISHED-TTL:P3D
REFRESH-INTERVAL:P3D
CALSCALE:GREGORIAN
BEGIN:VEVENT
DTSTART:20180910T133000Z
DTEND:20180914T213000Z
X-MICROSOFT-CDO-ALLDAYEVENT:FALSE
SUMMARY:Chamber of Commerce Week
DESCRIPTION:Stop by your Hoffman Estates Chamber of Commerce & Industry office and meet your staff.
X-ALT-DESC;FMTTYPE=text/html:<span style="font-size:16px\;">Stop by your Hoffman Estates Chamber of Commerce &amp\; Industry office and meet your staff.</span>
LOCATION:2200 W. Higgins Rd.\, Ste. 201 Hoffman Estates
UID:e.495.4644
SEQUENCE:3
DTSTAMP:20260425T010505Z
URL:https://members.hechamber.com/events/details/chamber-of-commerce-week-4644
END:VEVENT

END:VCALENDAR
