BEGIN:VCALENDAR
VERSION:2.0
PRODID:-//ChamberMaster//Event Calendar 2.0//EN
METHOD:PUBLISH
X-PUBLISHED-TTL:P3D
REFRESH-INTERVAL:P3D
CALSCALE:GREGORIAN
BEGIN:VEVENT
DTSTART:20181219T173000Z
DTEND:20181219T190000Z
X-MICROSOFT-CDO-ALLDAYEVENT:FALSE
SUMMARY:Chamber Holiday Luncheon
DESCRIPTION:Holiday Luncheon\n\nWednesday\, December 19\n\nMoretti's Unique Events\n\n2475 W. Higgins Road\, Hoffman Estates\n\n11:30 a.m. - 1:00 p.m.\n\nSpecial Italian Lunch Buffet $15\n\n\n\nSpecial Holiday Game and Prize\n\nto be awarded by Linda Dressler of RE/MAX Suburban
X-ALT-DESC;FMTTYPE=text/html:<div style="text-align: center\;"><br />\n<strong><span style="color:#FF0000\;"><span style="font-size:18px\;"><span style="font-family:comic sans ms\;">Holiday Luncheon</span></span></span><br />\n<span style="color:#006400\;"><span style="font-size:18px\;"><span style="font-family:comic sans ms\;">Wednesday\, December 19</span></span></span><br />\n<span style="color:#FF0000\;"><span style="font-size:18px\;"><span style="font-family:comic sans ms\;">Moretti&#39\;s Unique Events</span></span></span><br />\n<span style="color:#006400\;"><span style="font-size:18px\;"><span style="font-family:comic sans ms\;">2475 W. Higgins Road\, Hoffman Estates</span></span></span><br />\n<span style="color:#FF0000\;"><span style="font-size:18px\;"><span style="font-family:comic sans ms\;">11:30 a.m. - 1:00 p.m.</span></span></span><br />\n<span style="color:#006400\;"><span style="font-size:18px\;"><span style="font-family:comic sans ms\;">Special Italian Lunch Buffet $15</span></span></span><br />\n<br />\n<span style="color:#FF0000\;"><span style="font-size:18px\;"><span style="font-family:comic sans ms\;">Special Holiday Game and Prize<br />\nto be awarded by Linda Dressler of RE/MAX Suburban</span></span></span></strong><br />\n&nbsp\;</div>\n
LOCATION:Moretti's Unique Events 2475 W. Higgins Road Hoffman Estates
UID:e.495.4795
SEQUENCE:3
DTSTAMP:20260424T203031Z
URL:https://members.hechamber.com/events/details/chamber-holiday-luncheon-4795
END:VEVENT

END:VCALENDAR
