BEGIN:VCALENDAR
VERSION:2.0
PRODID:-//ChamberMaster//Event Calendar 2.0//EN
METHOD:PUBLISH
X-PUBLISHED-TTL:P3D
REFRESH-INTERVAL:P3D
CALSCALE:GREGORIAN
BEGIN:VEVENT
DTSTART:20191004T133000Z
DTEND:20191004T143000Z
X-MICROSOFT-CDO-ALLDAYEVENT:FALSE
SUMMARY:Celebration of Excellence Committee Mtg
DESCRIPTION:Celebration of Excellence\n\nCommittee Meeting\n\nCommittee Chair\, Martha Keyes and John Ericson
X-ALT-DESC;FMTTYPE=text/html:<span style="color:#0000CD\;">Celebration of Excellence<br />\nCommittee Meeting<br />\nCommittee Chair\, Martha Keyes and John Ericson</span>
LOCATION:Chicago Marriott Northwest 4800 Hoffman Blvd. Hoffman Estates
UID:e.495.5665
SEQUENCE:3
DTSTAMP:20260422T200235Z
URL:https://members.hechamber.com/events/details/celebration-of-excellence-committee-mtg-5665
END:VEVENT

END:VCALENDAR
