BEGIN:VCALENDAR
VERSION:2.0
PRODID:-//ChamberMaster//Event Calendar 2.0//EN
METHOD:PUBLISH
X-PUBLISHED-TTL:P3D
REFRESH-INTERVAL:P3D
CALSCALE:GREGORIAN
BEGIN:VEVENT
DTSTART:20191028T233000Z
DTEND:20191029T013000Z
X-MICROSOFT-CDO-ALLDAYEVENT:FALSE
SUMMARY:Career Resources for Veterans & Workers with Disabilities
DESCRIPTION:Monday\, October 28 2019\, 6:30pm - 8:30pm\n\n\n\nCentral Library\, Rasmussen Room ((A) Classroom)\n\n\n\nPepper Curington\, Disability Services Manager (BCS) and Suzette Robinson\, Veterans Employment Rep (IDES)\, will highlight a unique job training program for Veterans and workers with disabilities. Get information on training\, one-on-one planning and career counseling\, job readiness workshops\, paid internships and job placement services.\n\n\n\nPlease register online (https://www.schaumburglibrary.org/\, click EVENTS) or call our Information Services Desk at 847-923-3347
X-ALT-DESC;FMTTYPE=text/html:<strong><span style="font-family:arial\,sans-serif"><span style="font-size:12.0pt">Monday\, October 28 2019\, 6:30pm - 8:30pm</span></span></strong><br />\n<br />\n<span style="font-size:16px\;"><span style="font-family:arial\,sans-serif">Central Library\, Rasmussen Room ((A) Classroom)</span></span><br />\n<br />\n<span style="font-family:arial\,sans-serif"><span style="font-size:12.0pt"><span style="font-size:16px\;">Pepper Curington\, Disability Services Manager&nbsp\;(BCS) and Suzette Robinson\, Veterans Employment&nbsp\;Rep (IDES)\, will highlight a unique&nbsp\;job training program for Veterans and workers&nbsp\;with disabilities. Get information on training\,&nbsp\;one-on-one planning and career counseling\, job&nbsp\;readiness workshops\, paid internships and job&nbsp\;placement services.</span><br />\n<br />\nPlease register online (<a href="https://www.schaumburglibrary.org/">https://www.schaumburglibrary.org/</a>\, click EVENTS) or call our Information Services Desk at 847-923-3347</span></span><br />\n&nbsp\;
LOCATION:Schaumburg Township District Library Central Library 130 South Roselle Road Schaumburg\, IL 60193 (847) 985-4000
UID:e.495.5671
SEQUENCE:3
DTSTAMP:20260422T200803Z
URL:https://members.hechamber.com/events/details/career-resources-for-veterans-workers-with-disabilities-5671
END:VEVENT

END:VCALENDAR
