BEGIN:VCALENDAR
VERSION:2.0
PRODID:-//ChamberMaster//Event Calendar 2.0//EN
METHOD:PUBLISH
X-PUBLISHED-TTL:P3D
REFRESH-INTERVAL:P3D
CALSCALE:GREGORIAN
BEGIN:VEVENT
DTSTART:20200317T170000Z
DTEND:20200317T180000Z
X-MICROSOFT-CDO-ALLDAYEVENT:FALSE
SUMMARY:CANCELED Executive Committee Meeting
DESCRIPTION:Executive Board Meeting CANCELED FOR MARCH 17
X-ALT-DESC;FMTTYPE=text/html:<span style="color:#4B0082\;"><strong><span style="font-size: 18px\;"><span style="font-family: arial\;">Executive Board Meeting </span></span></strong></span><span style="color:#FF0000\;"><strong><span style="font-size: 18px\;"><span style="font-family: arial\;">CANCELED FOR MARCH 17</span></span></strong></span>
LOCATION:Please check your email for location.
UID:e.495.6720
SEQUENCE:3
DTSTAMP:20260422T120717Z
URL:https://members.hechamber.com/events/details/canceled-executive-committee-meeting-6720
END:VEVENT

END:VCALENDAR
