BEGIN:VCALENDAR
VERSION:2.0
PRODID:-//ChamberMaster//Event Calendar 2.0//EN
METHOD:PUBLISH
X-PUBLISHED-TTL:P3D
REFRESH-INTERVAL:P3D
CALSCALE:GREGORIAN
BEGIN:VEVENT
DTSTART:20200318T220000Z
DTEND:20200319T000000Z
X-MICROSOFT-CDO-ALLDAYEVENT:FALSE
SUMMARY:CANCELED Business After Hours - CANCELED
DESCRIPTION:Business After Hours on Wednesday\, March 18 at Heartland Bank and Trust has been CANCELED.  It will be rescheduled for Wednesday\, May 20.  \n\n\n\n\n\nAt Heartland Bank\, we're proud of the strength of our bank\, the capabilities we have\, the services we offer\, and the people who offer those services to you. When you compare banks in terms of their strength\, Heartland Bank stands tall. Get to know us and you'll understand why.
X-ALT-DESC;FMTTYPE=text/html:<div><strong style="font-family: Roboto\, sans-serif\; font-size: 10.6667px\;"><span style="font-size: 20px\;"><font color="#006400">Business After Hours on Wednesday\, March 18 at Heartland Bank and Trust has been&nbsp\;</font><font color="#0000cd"><u>CANCELED</u></font></span><span style="color: rgb(0\, 100\, 0)\;"><span style="font-size: 20px\;">.&nbsp\; It will be rescheduled for&nbsp\;<u>Wednesday\, May 20</u>.&nbsp\;&nbsp\;</span></span></strong><br />\n<br />\n<br />\n<span style="font-size:16px\;">At <span style="color:#006633\;"><strong>Heartland Bank</strong></span>\, we&#39\;re proud of the strength of our bank\, the capabilities we have\, the services we offer\, and the people who offer those services to you. When you compare banks in terms of their strength\, <span style="color:#006633\;"><strong>Heartland Bank</strong></span> stands tall. Get to know us and you&#39\;ll understand why.</span></div>\n\n<div style="text-align: center\;">&nbsp\;</div>\n<br />\n&nbsp\;
LOCATION:
UID:e.495.6726
SEQUENCE:3
DTSTAMP:20260422T121219Z
URL:https://members.hechamber.com/events/details/canceled-business-after-hours-canceled-6726
END:VEVENT

END:VCALENDAR
