BEGIN:VCALENDAR
VERSION:2.0
PRODID:-//ChamberMaster//Event Calendar 2.0//EN
METHOD:PUBLISH
X-PUBLISHED-TTL:P3D
REFRESH-INTERVAL:P3D
CALSCALE:GREGORIAN
BEGIN:VEVENT
DTSTART:20200323T124500Z
DTEND:20200323T140000Z
X-MICROSOFT-CDO-ALLDAYEVENT:FALSE
SUMMARY:CANCELED Board of Directors Meeting
DESCRIPTION:Monthly Board of Directors Meeting CANCELED\n\nFOR MONDAY\, MARCH 23\n\n \n\nBoard Chair:  John Ericson
X-ALT-DESC;FMTTYPE=text/html:<div style="text-align: center\;">&nbsp\;</div>\n\n<div style="text-align: center\;"><span style="font-size:18px\;"><strong><span style="font-family: arial\;"><span style="color: rgb(0\, 0\, 128)\;">Monthly Board of Directors Meeting </span><span style="color:#FF0000\;">CANCELED<br />\nFOR MONDAY\, MARCH 23</span></span></strong></span><br />\n&nbsp\;</div>\n\n<div style="text-align: center\;"><span style="font-size:16px\;"><span style="color: rgb(0\, 0\, 128)\;"><strong><span style="font-family: arial\;">Board Chair:&nbsp\; John Ericson</span></strong></span></span></div>\n
LOCATION:Hoffman Estates Community Bank 1375 Palatine Road Hoffman Estates
UID:e.495.6719
SEQUENCE:3
DTSTAMP:20260422T121428Z
URL:https://members.hechamber.com/events/details/canceled-board-of-directors-meeting-6719
END:VEVENT

END:VCALENDAR
