BEGIN:VCALENDAR
VERSION:2.0
PRODID:-//ChamberMaster//Event Calendar 2.0//EN
METHOD:PUBLISH
X-PUBLISHED-TTL:P3D
REFRESH-INTERVAL:P3D
CALSCALE:GREGORIAN
BEGIN:VEVENT
DTSTART:20260220T141500Z
DTEND:20260220T214500Z
X-MICROSOFT-CDO-ALLDAYEVENT:FALSE
SUMMARY:CAC Rooted and Rising Symposium
DESCRIPTION:Powerful\, relevant speakers will help participants build resiliency\, improve whole-person well-being and manage vicarious trauma.\n\n\n\n\nOn February 20\, 2026\, Children's Advocacy Center of North and Northwest Cook County (CAC) is hosting our third annual one-day symposium designed to address vicarious trauma in helping professions. We know firsthand the incredible challenges facing our colleagues in mental health and social service\, and the feedback from our first symposium revealed how much we need to come together to encourage and support each other. We're all in this together!\n\nSo bring yourself (or your whole team) for a day of inspired learning and self-care! \n\nCost is $30/person or $25/person with three or more team members registering together.\n\nFee includes breakfast\, lunch\, all sessions and 4 CEUs for LCSW\, LCPC and ISBE social workers.
X-ALT-DESC;FMTTYPE=text/html:<div>\n<div>Powerful\, relevant speakers will help participants build resiliency\, improve whole-person well-being and manage vicarious trauma.</div>\n</div>\n\n<div>\n<div>\n<p>On&nbsp\;February 20\, 2026\, Children's Advocacy Center of North and Northwest Cook County (CAC) is hosting our third annual one-day symposium designed to address vicarious trauma in helping professions. We know firsthand the incredible challenges facing our colleagues in mental health and social service\, and the feedback from our first symposium revealed how much we need to come together to encourage and support each other.&nbsp\;We're all in this together!</p>\n\n<p>So bring yourself (or your whole team) for a day of inspired learning and self-care!&nbsp\;<br>\nCost is $30/person or $25/person with three or more team members registering together.<br>\nFee includes breakfast\, lunch\, all sessions and 4 CEUs for LCSW\, LCPC and ISBE social workers.</p>\n</div>\n</div>\n
LOCATION:Harper College Wojcik Conference Center 1200 West Algonquin Road Palatine\, IL 60067
UID:e.495.9475
SEQUENCE:3
DTSTAMP:20260424T165139Z
URL:https://members.hechamber.com/events/details/cac-rooted-and-rising-symposium-9475
END:VEVENT

END:VCALENDAR
