BEGIN:VCALENDAR
VERSION:2.0
PRODID:-//ChamberMaster//Event Calendar 2.0//EN
METHOD:PUBLISH
X-PUBLISHED-TTL:P3D
REFRESH-INTERVAL:P3D
CALSCALE:GREGORIAN
BEGIN:VEVENT
DTSTART:20181103T113000Z
DTEND:20181103T153000Z
X-MICROSOFT-CDO-ALLDAYEVENT:FALSE
SUMMARY:Bridges 5K
DESCRIPTION:Come on our and enjoy a beautiful run through the paths of Bridges of Poplar Creek Golf Course on Sat Nov 3 at our first Bridges 5K.  Registration begins at 6:30am and the race kicks off at 8am.  All racers will recived a long sleeved t-shirt and a beverage at the end of the race.  A small portion of the registration fee will go to support the Friend of HE Parks. So come out run and help support the community!\n\n\n\nhttps://www.bridgesofpoplarcreek.com/bridges-5k/\n\n\n\nWe look forward to see you there!
X-ALT-DESC;FMTTYPE=text/html:Come on our and enjoy a beautiful run through the paths of Bridges of Poplar Creek Golf Course on Sat Nov 3 at our first Bridges 5K.&nbsp\; Registration begins at 6:30am and the race kicks off at 8am.&nbsp\; All racers will recived a long sleeved t-shirt and a beverage at the end of the race.&nbsp\; A small portion of the registration fee will go to support the Friend of HE Parks. So come out run and help support the community!<br />\n<br />\nhttps://www.bridgesofpoplarcreek.com/bridges-5k/<br />\n<br />\nWe look forward to see you there!
LOCATION:Bridges of Poplar Creek Golf Course 1400 Poplar Creek Drive Hoffman Estates\, IL 60169
UID:e.495.4831
SEQUENCE:3
DTSTAMP:20260424T215725Z
URL:https://members.hechamber.com/events/details/bridges-5k-4831
END:VEVENT

END:VCALENDAR
