BEGIN:VCALENDAR
VERSION:2.0
PRODID:-//ChamberMaster//Event Calendar 2.0//EN
METHOD:PUBLISH
X-PUBLISHED-TTL:P3D
REFRESH-INTERVAL:P3D
CALSCALE:GREGORIAN
BEGIN:VEVENT
DTSTART:20210403T140000Z
DTEND:20210403T160000Z
X-MICROSOFT-CDO-ALLDAYEVENT:FALSE
SUMMARY:Breakfast with the Easter Bunny at Main Event Hoffman Estates
DESCRIPTION:Main Event is hosting a special event! Breakfast with the Easter Bunny!\n\n\n\nEnjoy a Pancake Breakfast with the Easter Bunny\, Arts & Craft Station\, Picture with Easter Bunny\, Free Bowling and Arcade Play Included!
X-ALT-DESC;FMTTYPE=text/html:<strong><span style="color:#ff0099\;"><span style="font-size:16px\;">Main Event is hosting a special event! Breakfast with the Easter Bunny!</span></span><br />\n<br />\n<span style="color:#4B0082\;"><span style="font-size:16px\;">Enjoy a Pancake Breakfast with the Easter Bunny\, Arts &amp\; Craft Station\, Picture with Easter Bunny\, Free Bowling and Arcade Play Included!</span></span></strong>
LOCATION:Main Event Hoffman Estates 2575 Pratum Ave\, Hoffman Estates\, IL 60192
UID:e.495.7160
SEQUENCE:3
DTSTAMP:20260421T145250Z
URL:https://members.hechamber.com/events/details/breakfast-with-the-easter-bunny-at-main-event-hoffman-estates-7160
END:VEVENT

END:VCALENDAR
