BEGIN:VCALENDAR
VERSION:2.0
PRODID:-//ChamberMaster//Event Calendar 2.0//EN
METHOD:PUBLISH
X-PUBLISHED-TTL:P3D
REFRESH-INTERVAL:P3D
CALSCALE:GREGORIAN
BEGIN:VEVENT
DTSTART:20200304T180000Z
DTEND:20200304T190000Z
X-MICROSOFT-CDO-ALLDAYEVENT:FALSE
SUMMARY:Bon Appetit Committee Meeting
DESCRIPTION:Bon Appetit Committee Meeting\n\n\n\nChaired by Linda Dressler
X-ALT-DESC;FMTTYPE=text/html:<div style="text-align: center\;"><br />\n<span style="color:#A52A2A\;"><strong><span style="font-size: 16px\;"><span style="font-family: arial\;"><span style="font-size:20px\;">Bon Appetit Committee Meeting</span><br />\n<br />\n<span style="font-size:18px\;">Chaired by Linda Dressler</span></span></span></strong></span></div>\n
LOCATION:Meeting held at the Chamber office 2200 W. Higgins Road\, Suite 201 Hoffman Estates
UID:e.495.6984
SEQUENCE:3
DTSTAMP:20260422T121339Z
URL:https://members.hechamber.com/events/details/bon-appetit-committee-meeting-6984
END:VEVENT

END:VCALENDAR
