BEGIN:VCALENDAR
VERSION:2.0
PRODID:-//ChamberMaster//Event Calendar 2.0//EN
METHOD:PUBLISH
X-PUBLISHED-TTL:P3D
REFRESH-INTERVAL:P3D
CALSCALE:GREGORIAN
BEGIN:VEVENT
DTSTART:20200128T010000Z
DTEND:20200128T023000Z
X-MICROSOFT-CDO-ALLDAYEVENT:FALSE
SUMMARY:Are You Visible on LinkedIn?
DESCRIPTION:Are You Visible on LinkedIn?\n\nMonday\, January 27 2020\, 7:00pm - 8:30pm\n\nCentral Library\, Rasmussen North ((A) Classroom)\n\nSchaumburg Township District Library\n\n130 Roselle Rd.\, Schaumburg\n\nAre you visible on LinkedIn? Learn practical desktop and mobile settings to make your LinkedIn profile stand out.  LinkedIn expert Bruce Bixler will demonstrate a strategy to help you maneuver the LinkedIn platform. Please register online (https://www.schaumburglibrary.org/\, click EVENTS) or call our Information Services Desk at 847-923-3347.
X-ALT-DESC;FMTTYPE=text/html:<span style="font-family:arial\,sans-serif"><span style="font-size:12.0pt">Are You Visible on LinkedIn?</span></span><br />\n<span style="font-family:arial\,sans-serif"><span style="font-size:12.0pt">Monday\, January 27 2020\, 7:00pm - 8:30pm</span></span><br />\n<span style="font-family:arial\,sans-serif"><span style="font-size:12.0pt">Central Library\, Rasmussen North ((A) Classroom)<br />\nSchaumburg Township District Library<br />\n130 Roselle Rd.\, Schaumburg</span></span><br />\n<span style="font-family:arial\,sans-serif"><span style="font-size:12.0pt">Are you visible on LinkedIn? Learn practical desktop and mobile settings to make your LinkedIn profile stand out.&nbsp\; LinkedIn expert Bruce Bixler will demonstrate a strategy to help you maneuver the LinkedIn platform. Please register online (<a href="https://www.schaumburglibrary.org/">https://www.schaumburglibrary.org/</a>\, click EVENTS) or call our Information Services Desk at 847-923-3347.</span></span>
LOCATION:
UID:e.495.6739
SEQUENCE:3
DTSTAMP:20260422T153811Z
URL:https://members.hechamber.com/events/details/are-you-visible-on-linkedin-6739
END:VEVENT

END:VCALENDAR
