BEGIN:VCALENDAR
VERSION:2.0
PRODID:-//ChamberMaster//Event Calendar 2.0//EN
METHOD:PUBLISH
X-PUBLISHED-TTL:P3D
REFRESH-INTERVAL:P3D
CALSCALE:GREGORIAN
BEGIN:VEVENT
DTSTART:20190501T200000Z
DTEND:20190502T000000Z
X-MICROSOFT-CDO-ALLDAYEVENT:FALSE
SUMMARY:Advance Wellness MedSpa Spring Beauty Event
DESCRIPTION:Come join us on Wednesday May 1st\, 2019 from 3-7 for our Spring Beauty Event! We will have light hors d'oeuvres and refreshments\, as well as\, free chair massage\, Complimentary 3D Skin Analysis\, Raffles and prizes given away every 30 minutes. First 50 to RSVP get a $25 gift certificate\, bring a friend and you BOTH get a $50 gift certificate. \n\n\n\nSPECIALS\n\n*$50 off a custom facial or Signature chemical peel\n\n*Buy any package of 3 and receive 4th treatment FREE(Laser Genesis\, Microneedling\,Micropeels\,Microderms\, Photofacials)excludes laser hair removal.\n\n*Juvederm Voluma $725 per syringe\n\n*Juvederm Ultra/Ultra Plus $525 per syringe or 2 for $999\n\n*Restylane Refyne/Defyne $525 per syringe or 2 for $999\n\n*Botox 22 units for $200 and receive a free face peel ($9.09/unit\; regularly $12.50/unit)\n\n*Dysport 55 units for $200 and receive a free face peel ($3.63/unit\; regularly $12.50/unit)\n\n*10% off any Laser Hair Removal package and receive FREE touch ups for 6 months (after final treatment) \n\n*10% off skincare products\n\n*10% off our Detox Supplements or Weight Loss Products\n\n*Spend $1500 in services\, receive an extra $100 off.\n\n*Buy a 1 year membership\, receive 1 month FREE
X-ALT-DESC;FMTTYPE=text/html:<br />\n<span style="font-size:16px\;"><span style="font-family:arial\;"><em><strong>Come join us on Wednesday May 1st\, 2019 from 3-7 for our Spring Beauty Event! We will have light hors d&#39\;oeuvres and refreshments\, as well as\, free chair massage\, Complimentary 3D Skin Analysis\, Raffles and prizes given away every 30 minutes. First 50 to RSVP get a $25 gift certificate\, bring a friend and you BOTH get a $50 gift certificate.&nbsp\;</strong></em><br />\n<br />\n<u><strong>SPECIALS</strong></u><br />\n<span style="background-color: rgb(255\, 255\, 255)\; color: rgb(51\, 51\, 51)\;">*$50 off a custom facial or Signature chemical peel</span><br />\n<span style="background-color: rgb(255\, 255\, 255)\; color: rgb(51\, 51\, 51)\;">*Buy any package of 3 and receive 4th treatment FREE(Laser Genesis\, Microneedling\,Micropeels\,Microderms\, Photofacials)excludes laser hair removal.</span><br />\n<span style="background-color: rgb(255\, 255\, 255)\; color: rgb(51\, 51\, 51)\;">*Juvederm Voluma $725 per syringe</span><br />\n<span style="background-color: rgb(255\, 255\, 255)\; color: rgb(51\, 51\, 51)\;">*Juvederm Ultra/Ultra Plus $525 per syringe or 2 for $999</span><br />\n<span style="background-color: rgb(255\, 255\, 255)\; color: rgb(51\, 51\, 51)\;">*Restylane Refyne/Defyne $525 per syringe or 2 for $999</span><br />\n<span style="background-color: rgb(255\, 255\, 255)\; color: rgb(51\, 51\, 51)\;">*Botox 22 units for $200 and receive a free face peel ($9.09/unit\; regularly $12.50/unit)</span><br />\n<span style="background-color: rgb(255\, 255\, 255)\; color: rgb(51\, 51\, 51)\;">*Dysport 55 units for $200 and receive a free face peel ($3.63/unit\; regularly $12.50/unit)</span><br />\n<span style="background-color: rgb(255\, 255\, 255)\; color: rgb(51\, 51\, 51)\;">*10% off any Laser Hair Removal package and receive FREE touch ups for 6 months (after final treatment)&nbsp\;</span><br />\n<span style="background-color: rgb(255\, 255\, 255)\; color: rgb(51\, 51\, 51)\;">*10% off skincare products</span><br />\n<span style="background-color: rgb(255\, 255\, 255)\; color: rgb(51\, 51\, 51)\;">*10% off our Detox Supplements or Weight Loss Products</span><br />\n<span style="background-color: rgb(255\, 255\, 255)\; color: rgb(51\, 51\, 51)\;">*Spend $1500 in services\, receive an extra $100 off.</span><br />\n<span style="background-color: rgb(255\, 255\, 255)\; color: rgb(51\, 51\, 51)\;">*Buy a 1 year membership\, receive 1 month FREE</span></span></span>
LOCATION:Advance Wellness MedSpa 1555 Barrington Road Doctor Building 1 Suite 130 Hoffman Estates\, IL. 60169 (847)466-5933
UID:e.495.5361
SEQUENCE:3
DTSTAMP:20260424T134148Z
URL:https://members.hechamber.com/events/details/advance-wellness-medspa-spring-beauty-event-5361
END:VEVENT

END:VCALENDAR
