BEGIN:VCALENDAR
VERSION:2.0
PRODID:-//ChamberMaster//Event Calendar 2.0//EN
METHOD:PUBLISH
X-PUBLISHED-TTL:P3D
REFRESH-INTERVAL:P3D
CALSCALE:GREGORIAN
BEGIN:VEVENT
DTSTART:20191015T000000Z
DTEND:20191015T013000Z
X-MICROSOFT-CDO-ALLDAYEVENT:FALSE
SUMMARY:A Financial Check-Up for Retirees
DESCRIPTION:Presenter Karen Chan\, Financial Educations and Consulting\, LLC\, will provide guidance to help you assess your financial state of affairs. Subjects include insurance\, the state of your home\, credit history and important documents. Discover federal\, state and local benefits and services you may be eligible for.\n\n\n\nPlease register online (https://www.schaumburglibrary.org/\, click EVENTS) or call our Information Services Desk at 847-923-3347.
X-ALT-DESC;FMTTYPE=text/html:<span style="font-size:16px\;"><strong><span style="font-family:arial\,sans-serif">Presenter Karen Chan\, Financial Educations and Consulting\, LLC\, will provide guidance to help you assess your financial state of affairs. Subjects include insurance\, the state of your home\, credit history and important documents. Discover federal\, state and local benefits and services you may be eligible for.</span></strong><br />\n<br />\n<span style="font-family:arial\,sans-serif">Please register online (<a href="https://www.schaumburglibrary.org/">https://www.schaumburglibrary.org/</a>\, click EVENTS) or call our Information Services Desk at 847-923-3347.</span><br />\n&nbsp\;</span><br />\n&nbsp\;
LOCATION:Central Library 130 South Roselle Road Schaumburg\, IL 60193 (847) 985-4000
UID:e.495.5669
SEQUENCE:3
DTSTAMP:20260422T200052Z
URL:https://members.hechamber.com/events/details/a-financial-check-up-for-retirees-5669
END:VEVENT

END:VCALENDAR
