BEGIN:VCALENDAR
VERSION:2.0
PRODID:-//ChamberMaster//Event Calendar 2.0//EN
METHOD:PUBLISH
X-PUBLISHED-TTL:P3D
REFRESH-INTERVAL:P3D
CALSCALE:GREGORIAN
BEGIN:VEVENT
DTSTART:20181205T233000Z
DTEND:20181206T040000Z
X-MICROSOFT-CDO-ALLDAYEVENT:FALSE
SUMMARY:2018 Business Awards of Excellence Winter Celebration
DESCRIPTION:The Center for Health Services works with hundreds of companies who support and volunteer for our programs\, events\, and families in our communities. The yearly Business Awards of Excellence is to give back to the companies and community leaders who have supported us throughout the year(s). We recognize your outstanding works in our communities. This is a great opportunity to take your employees\, friends\, and family to a holiday party and It also benefits a non-profit organization.\n\nhttps://www.centerforhealthservices.org/2018businessawards
X-ALT-DESC;FMTTYPE=text/html:<p>The Center for Health Services works with hundreds of companies who support and volunteer for our programs\, events\, and families in our communities. The yearly Business Awards of Excellence is to give back to the companies and community leaders who have supported us throughout the year(s). We recognize your outstanding works in our communities. This is a great opportunity to take your employees\, friends\, and family to a holiday party and It also benefits a non-profit organization.</p>\n\n<p><a href="https://www.centerforhealthservices.org/2018businessawards" rel="noreferrer" style="color: rgb(1\, 134\, 186)\;" target="_blank">https://www.centerforhealthservices.org/2018businessawards</a></p>\n\n<p>&nbsp\;</p>\n
LOCATION:
UID:e.495.4829
SEQUENCE:3
DTSTAMP:20260424T203359Z
URL:https://members.hechamber.com/events/details/2018-business-awards-of-excellence-winter-celebration-4829
END:VEVENT

END:VCALENDAR
